BEGIN:VCALENDAR
VERSION:2.0
PRODID:-//Tukios.com/
BEGIN:VEVENT
UID:04fb498f-9edf-4b01-ada6-16419c95edd0@www.roydavisfuneralhome.com
DTSTAMP:20260420T235203Z
DTSTART:20260424T150000Z
DTEND:20260424T160000Z
SUMMARY:Funeral Service
DESCRIPTION:
URL:https://www.roydavisfuneralhome.com/obituaries/carolyn-whitfield
LOCATION: 5935 Mulberry St  Austell GA 30168
GEO:33.8100381;-84.6321287
END:VEVENT
END:VCALENDAR