BEGIN:VCALENDAR
VERSION:2.0
PRODID:-//Tukios.com/
BEGIN:VEVENT
UID:b294adc6-4447-4abd-aa38-5b7f378a4749@www.roydavisfuneralhome.com
DTSTAMP:20260420T235812Z
DTSTART:20260424T140000Z
DTEND:20260424T150000Z
SUMMARY:Visitation
DESCRIPTION:
URL:https://www.roydavisfuneralhome.com/obituaries/carolyn-whitfield
LOCATION: 5935 Mulberry St  Austell GA 30168
GEO:33.8100381;-84.6321287
END:VEVENT
END:VCALENDAR